BEGIN:VCALENDAR
VERSION:2.0
PRODID:-//Oxygen Alliance - ECPv6.15.12.2//NONSGML v1.0//EN
CALSCALE:GREGORIAN
METHOD:PUBLISH
X-ORIGINAL-URL:https://oxygenalliance.org
X-WR-CALDESC:Events for Oxygen Alliance
REFRESH-INTERVAL;VALUE=DURATION:PT1H
X-Robots-Tag:noindex
X-PUBLISHED-TTL:PT1H
BEGIN:VTIMEZONE
TZID:Europe/London
BEGIN:DAYLIGHT
TZOFFSETFROM:+0000
TZOFFSETTO:+0100
TZNAME:BST
DTSTART:20230326T010000
END:DAYLIGHT
BEGIN:STANDARD
TZOFFSETFROM:+0100
TZOFFSETTO:+0000
TZNAME:GMT
DTSTART:20231029T010000
END:STANDARD
BEGIN:DAYLIGHT
TZOFFSETFROM:+0000
TZOFFSETTO:+0100
TZNAME:BST
DTSTART:20240331T010000
END:DAYLIGHT
BEGIN:STANDARD
TZOFFSETFROM:+0100
TZOFFSETTO:+0000
TZNAME:GMT
DTSTART:20241027T010000
END:STANDARD
BEGIN:DAYLIGHT
TZOFFSETFROM:+0000
TZOFFSETTO:+0100
TZNAME:BST
DTSTART:20250330T010000
END:DAYLIGHT
BEGIN:STANDARD
TZOFFSETFROM:+0100
TZOFFSETTO:+0000
TZNAME:GMT
DTSTART:20251026T010000
END:STANDARD
END:VTIMEZONE
BEGIN:VTIMEZONE
TZID:Africa/Nairobi
BEGIN:STANDARD
TZOFFSETFROM:+0300
TZOFFSETTO:+0300
TZNAME:EAT
DTSTART:20230101T000000
END:STANDARD
END:VTIMEZONE
BEGIN:VEVENT
DTSTART;VALUE=DATE:20240219
DTEND;VALUE=DATE:20240303
DTSTAMP:20260423T121040
CREATED:20240202T124317Z
LAST-MODIFIED:20240314T125850Z
UID:27754-1708300800-1709423999@oxygenalliance.org
SUMMARY:Intergovernmental Negotiating Body for a Pandemic Agreement Meeting
DESCRIPTION:“The World Together”: the Intergovernmental Negotiating Body to draft and negotiate a WHO convention\, agreement or other international instrument on pandemic prevention\, preparedness and response
URL:https://oxygenalliance.org/event/intergovernmental-negotiating-body-for-a-pandemic-agreement-meeting/
LOCATION:Virtual
CATEGORIES:Past Events
END:VEVENT
BEGIN:VEVENT
DTSTART;VALUE=DATE:20240226
DTEND;VALUE=DATE:20240302
DTSTAMP:20260423T121040
CREATED:20240202T124533Z
LAST-MODIFIED:20240826T053013Z
UID:27758-1708905600-1709337599@oxygenalliance.org
SUMMARY:WHO Meeting of the Advisory Committee on Immunization and Vaccines-related Implementation Research
DESCRIPTION:Immunization and vaccines related implementation research advisory committee (IVIR-AC)
URL:https://oxygenalliance.org/event/who-meeting-of-the-advisory-committee-on-immunization-and-vaccines-related-implementation-research/
CATEGORIES:Past Events
END:VEVENT
BEGIN:VEVENT
DTSTART;TZID=Africa/Nairobi:20240314T150000
DTEND;TZID=Africa/Nairobi:20240314T160000
DTSTAMP:20260423T121040
CREATED:20240425T024237Z
LAST-MODIFIED:20240826T052935Z
UID:28102-1710428400-1710432000@oxygenalliance.org
SUMMARY:Oxygen Alliance Partner Talk - USAID
DESCRIPTION:Register Here
URL:https://oxygenalliance.org/event/oxygen-alliance-partner-talk-usaid/
CATEGORIES:Past Events
END:VEVENT
BEGIN:VEVENT
DTSTART;VALUE=DATE:20240317
DTEND;VALUE=DATE:20240321
DTSTAMP:20260423T121040
CREATED:20240202T125032Z
LAST-MODIFIED:20240826T052927Z
UID:27760-1710633600-1710979199@oxygenalliance.org
SUMMARY:13th Meeting of the International Society of Pneumonia & Pneumococcal Diseases (ISPPD-13)
DESCRIPTION:The ISPPD Biennial Meeting is the premier global scientific event devoted to the exchange\, advancement\, and dissemination of the latest discoveries in basic science\, microbiology\, epidemiology\, treatment\, and prevention of pneumonia and pneumococcal diseases. \nISPPD provides an unparalleled international forum to bring together scientific\, clinical\, and public health experts\, practitioners\, and students to present\, discuss\, challenge\, and learn from the latest work and advancements on pneumonia & pneumococcal disease.
URL:https://oxygenalliance.org/event/13th-meeting-of-the-international-society-of-pneumonia-pneumococcal-diseases-isppd-13/
CATEGORIES:Past Events
END:VEVENT
BEGIN:VEVENT
DTSTART;VALUE=DATE:20240325
DTEND;VALUE=DATE:20240328
DTSTAMP:20260423T121040
CREATED:20240202T125601Z
LAST-MODIFIED:20240826T052919Z
UID:27762-1711324800-1711583999@oxygenalliance.org
SUMMARY:WHO National Oxygen Roadmap Meeting
DESCRIPTION:The Clinical Management Unit in the Country Readiness Strengthening Department\, within the Health Emergencies Programme (WHE)\, is organizing a global meeting to convene Member States and Global Oxygen Partners to develop a national oxygen scale-up template. With the adoption of the “Increasing access to medical oxygen”1 resolution at the 76th World Health Assembly and the launch of the new Global Oxygen Alliance2 taskforce\, it is timely and necessary for WHO to convene this global meeting to support Member States in developing national oxygen scale-up roadmaps.
URL:https://oxygenalliance.org/event/who-national-oxygen-roadmap-meeting/
LOCATION:Dakar\, Senegal
CATEGORIES:Past Events
END:VEVENT
BEGIN:VEVENT
DTSTART;TZID=Africa/Nairobi:20240328T150000
DTEND;TZID=Africa/Nairobi:20240328T160000
DTSTAMP:20260423T121040
CREATED:20240314T123050Z
LAST-MODIFIED:20240826T052913Z
UID:28094-1711638000-1711641600@oxygenalliance.org
SUMMARY:Oxygen Alliance Partner Talk
DESCRIPTION:Register Here 
URL:https://oxygenalliance.org/event/oxygen-alliance-partner-talk/
LOCATION:Virtual
CATEGORIES:Past Events
END:VEVENT
END:VCALENDAR