BEGIN:VCALENDAR
VERSION:2.0
PRODID:-//Oxygen Alliance - ECPv6.15.12.2//NONSGML v1.0//EN
CALSCALE:GREGORIAN
METHOD:PUBLISH
X-WR-CALNAME:Oxygen Alliance
X-ORIGINAL-URL:https://oxygenalliance.org
X-WR-CALDESC:Events for Oxygen Alliance
REFRESH-INTERVAL;VALUE=DURATION:PT1H
X-Robots-Tag:noindex
X-PUBLISHED-TTL:PT1H
BEGIN:VTIMEZONE
TZID:Europe/London
BEGIN:DAYLIGHT
TZOFFSETFROM:+0000
TZOFFSETTO:+0100
TZNAME:BST
DTSTART:20220327T010000
END:DAYLIGHT
BEGIN:STANDARD
TZOFFSETFROM:+0100
TZOFFSETTO:+0000
TZNAME:GMT
DTSTART:20221030T010000
END:STANDARD
BEGIN:DAYLIGHT
TZOFFSETFROM:+0000
TZOFFSETTO:+0100
TZNAME:BST
DTSTART:20230326T010000
END:DAYLIGHT
BEGIN:STANDARD
TZOFFSETFROM:+0100
TZOFFSETTO:+0000
TZNAME:GMT
DTSTART:20231029T010000
END:STANDARD
BEGIN:DAYLIGHT
TZOFFSETFROM:+0000
TZOFFSETTO:+0100
TZNAME:BST
DTSTART:20240331T010000
END:DAYLIGHT
BEGIN:STANDARD
TZOFFSETFROM:+0100
TZOFFSETTO:+0000
TZNAME:GMT
DTSTART:20241027T010000
END:STANDARD
BEGIN:DAYLIGHT
TZOFFSETFROM:+0000
TZOFFSETTO:+0100
TZNAME:BST
DTSTART:20250330T010000
END:DAYLIGHT
BEGIN:STANDARD
TZOFFSETFROM:+0100
TZOFFSETTO:+0000
TZNAME:GMT
DTSTART:20251026T010000
END:STANDARD
END:VTIMEZONE
BEGIN:VEVENT
DTSTART;VALUE=DATE:20240202
DTEND;VALUE=DATE:20240203
DTSTAMP:20260423T201331
CREATED:20240202T135234Z
LAST-MODIFIED:20240826T053032Z
UID:27778-1706832000-1706918399@oxygenalliance.org
SUMMARY:FDA Public Advisory Committee Meetings on Pulse Oximeters
DESCRIPTION:CDRH Anesthesiology and Respiratory Therapy Devices Panel of the Medical Devices Advisory Committee
URL:https://oxygenalliance.org/event/fda-public-advisory-committee-meetings-on-pulse-oximeters/
CATEGORIES:Past Events
END:VEVENT
BEGIN:VEVENT
DTSTART;TZID=Europe/London:20231017T080000
DTEND;TZID=Europe/London:20231019T170000
DTSTAMP:20260423T201331
CREATED:20230904T111330Z
LAST-MODIFIED:20240202T125701Z
UID:26904-1697529600-1697734800@oxygenalliance.org
SUMMARY:Africa Health Exhibition – 17th-19th October
DESCRIPTION:Discover first-hand the latest advancements and cutting-edge technologies that are revolutionizing patient care\, improving diagnoses\, and enhancing overall healthcare outcomes. Africa Health is a great opportunity to gain insight from industry leaders and network with experts at the forefront of the industry.
URL:https://oxygenalliance.org/event/africa-health-exhibition-17th-19th-october/
CATEGORIES:Past Events
ATTACH;FMTTYPE=image/jpeg:https://oxygenalliance.org/wp-content/uploads/2023/07/afh23_whyexhibit_hero-jpg.webp
END:VEVENT
BEGIN:VEVENT
DTSTART;VALUE=DATE:20231002
DTEND;VALUE=DATE:20231003
DTSTAMP:20260423T201331
CREATED:20230904T110859Z
LAST-MODIFIED:20240202T125707Z
UID:26899-1696204800-1696291199@oxygenalliance.org
SUMMARY:Oxygen Summit – Oct 2 2023
DESCRIPTION:This online webinar will feature Dr. Anand Iyer\, MD\, MSPH from the University of Alabama-Birmingham\, a leading pulmonologist and advocate for reducing healthcare disparities\, particularly for people living with chronic respiratory issues. Dr. Iyer will be joined by Chrysalis Ashton\, BSRC\, RRT\, the Director of Clinical Operations for Carelinc Medical\, a large durable medical equipment supplier in the Midwest\, Mike Hess\, MPH\, RRT\, RPFT\, Senior Director for Public Outreach and Education for the COPD Foundation\, and up to two oxygen therapy users\, representing different backgrounds and experiences. The Summit will feature a brief educational presentation followed by a roundtable discussion on how the various stakeholder groups can work together to improve communication and coordination in order to streamline oxygen therapy access. The event will be conducted live via an online videoconferencing platform\, which will allow attendees to ask questions of all panelists in real-time.
URL:https://oxygenalliance.org/event/oxygen-summit-oct-2-2023/
CATEGORIES:Past Events
ATTACH;FMTTYPE=image/jpeg:https://oxygenalliance.org/wp-content/uploads/2023/07/WOD_Logo-325-jpg.webp
END:VEVENT
END:VCALENDAR