BEGIN:VCALENDAR
VERSION:2.0
PRODID:-//Oxygen Alliance - ECPv6.15.12.2//NONSGML v1.0//EN
CALSCALE:GREGORIAN
METHOD:PUBLISH
X-WR-CALNAME:Oxygen Alliance
X-ORIGINAL-URL:https://oxygenalliance.org
X-WR-CALDESC:Events for Oxygen Alliance
REFRESH-INTERVAL;VALUE=DURATION:PT1H
X-Robots-Tag:noindex
X-PUBLISHED-TTL:PT1H
BEGIN:VTIMEZONE
TZID:Africa/Kampala
BEGIN:STANDARD
TZOFFSETFROM:+0300
TZOFFSETTO:+0300
TZNAME:EAT
DTSTART:20240101T000000
END:STANDARD
END:VTIMEZONE
BEGIN:VEVENT
DTSTART;VALUE=DATE:20251002
DTEND;VALUE=DATE:20251004
DTSTAMP:20260423T120945
CREATED:20250818T181538Z
LAST-MODIFIED:20250818T181839Z
UID:30744-1759363200-1759535999@oxygenalliance.org
SUMMARY:Uganda National Biomedical Engineering Conference
DESCRIPTION:The Ministry of Health in collaboration with Uganda National Association of Medical and Hospital Engineering invites you to the (UNBEC2025)\, a forum for professionals and students to share ideas\, innovations\, and solutions in medical device technologies basing on the theme: Strengthening Biomedical Engineering for Sustainable Healthcare Systems and Economic Transformation in Uganda. \nSub themes.\n1. Research\, Innovation and development.\n2. Strengthening sustainable Health technology management systems\n3. Policy guidelines\, standards and regulations for medical devices safety.\n4. Integrating Digital Health\, AI\, and data systems Into Uganda’s Healthcare Infrastructure.
URL:https://oxygenalliance.org/event/uganda-national-biomedical-engineering-conference/
LOCATION:Mestil Hotel\, Kampala\, Uganda\, Mestil Hotel\, Kampala\, Uganda
CATEGORIES:Upcoming Events
END:VEVENT
END:VCALENDAR