BEGIN:VCALENDAR
VERSION:2.0
PRODID:-//Oxygen Alliance - ECPv6.15.12.2//NONSGML v1.0//EN
CALSCALE:GREGORIAN
METHOD:PUBLISH
X-ORIGINAL-URL:https://oxygenalliance.org
X-WR-CALDESC:Events for Oxygen Alliance
REFRESH-INTERVAL;VALUE=DURATION:PT1H
X-Robots-Tag:noindex
X-PUBLISHED-TTL:PT1H
BEGIN:VTIMEZONE
TZID:Africa/Nairobi
BEGIN:STANDARD
TZOFFSETFROM:+0300
TZOFFSETTO:+0300
TZNAME:EAT
DTSTART:20230101T000000
END:STANDARD
END:VTIMEZONE
BEGIN:VEVENT
DTSTART;TZID=Africa/Nairobi:20240509T153000
DTEND;TZID=Africa/Nairobi:20240509T160000
DTSTAMP:20260423T102151
CREATED:20240314T124438Z
LAST-MODIFIED:20240826T052857Z
UID:28105-1715268600-1715270400@oxygenalliance.org
SUMMARY:Panel With The Uganda National Association for Medical and Hospital Engineering (UNAMHE)
DESCRIPTION:Register Here
URL:https://oxygenalliance.org/event/panel-with-the-uganda-national-association-for-medical-and-hospital-engineering-unamhe/
CATEGORIES:Past Events
END:VEVENT
END:VCALENDAR