BEGIN:VCALENDAR
VERSION:2.0
PRODID:-//Oxygen Alliance - ECPv6.15.12.2//NONSGML v1.0//EN
CALSCALE:GREGORIAN
METHOD:PUBLISH
X-ORIGINAL-URL:https://oxygenalliance.org
X-WR-CALDESC:Events for Oxygen Alliance
REFRESH-INTERVAL;VALUE=DURATION:PT1H
X-Robots-Tag:noindex
X-PUBLISHED-TTL:PT1H
BEGIN:VTIMEZONE
TZID:UTC
BEGIN:STANDARD
TZOFFSETFROM:+0000
TZOFFSETTO:+0000
TZNAME:UTC
DTSTART:20230101T000000
END:STANDARD
END:VTIMEZONE
BEGIN:VEVENT
DTSTART;VALUE=DATE:20240206
DTEND;VALUE=DATE:20240207
DTSTAMP:20260423T145505
CREATED:20240202T123946Z
LAST-MODIFIED:20240314T125839Z
UID:27751-1707177600-1707263999@oxygenalliance.org
SUMMARY:WHO Fair Pricing Forum 2024
DESCRIPTION:Welcome to the inaugural session of the Fair Pricing Forum 2024! We are honored to have leaders and experts in health from all over the world here today to discuss the most pressing issues facing affordability access to safe and effective health products. \nThe Forum will begin with opening remarks from our distinguished panel of speakers and will continue with an inaugural plenary and set of parallel sessions on the status of market transparency\, supply chain resilience\, and utilizing real-world evidence for pricing decisions.
URL:https://oxygenalliance.org/event/who-fair-pricing-forum-2024/
LOCATION:Virtual
CATEGORIES:Past Events
END:VEVENT
END:VCALENDAR